BEGIN:VCALENDAR
VERSION:2.0
PRODID:-//eventon.com NONSGML v1.0//EN
CALSCALE:GREGORIAN
METHOD:PUBLISH
BEGIN:VEVENT
UID:69e748cc02e1e
DTSTAMP:20260421T095212Z
DTSTART:20210414T070000Z
DTEND:20210413T110000Z
LOCATION:Berlin - Konzerthaus
SUMMARY:Berlin - Konzerthaus
DESCRIPTION:Wunschkonzert: Sie bestimmen das Programm dieses Abends – und
  das Fauré Quartett erfährt erst auf der Bühne\,  was es spielen wird. Z
 ur Auswahl stehen 25 Werke aus 25 Jahren.\nhttps://faurequartett.de/events/
 wunschkonzert-zum-25-jaehrigen-quartettjubilaeum/
URL:https://faurequartett.de/events/wunschkonzert-zum-25-jaehrigen-quartettjubilaeum/
END:VEVENT
END:VCALENDAR