BEGIN:VCALENDAR
VERSION:2.0
PRODID:-//eventon.com NONSGML v1.0//EN
CALSCALE:GREGORIAN
METHOD:PUBLISH
BEGIN:VEVENT
UID:69eb38a61b370
DTSTAMP:20260424T093222Z
DTSTART:20260419T180000Z
DTEND:20260419T235900Z
LOCATION:Zeughaus
SUMMARY:Neuss
DESCRIPTION:Gabriel Fauré Auswahl verschiedener Lieder (Bearb. f. Klavierq
 uartett v. D. Zöllner) Antonin Dvorak Klavierquartett D-Dur op. 23 Johanne
 s Brahms Klavierquartett A-Dur op. 26\nhttps://faurequartett.de/events/neus
 s/
URL:https://faurequartett.de/events/neuss/
END:VEVENT
END:VCALENDAR