BEGIN:VCALENDAR
VERSION:2.0
PRODID:-//eventon.com NONSGML v1.0//EN
CALSCALE:GREGORIAN
METHOD:PUBLISH
BEGIN:VEVENT
UID:69eb39ceb41c5
DTSTAMP:20260424T093718Z
DTSTART:20260520
DTEND:20260521
LOCATION:
SUMMARY:Turin (Italien)
DESCRIPTION:\nhttps://faurequartett.de/events/699/
URL:https://faurequartett.de/events/699/
END:VEVENT
END:VCALENDAR