BEGIN:VCALENDAR
VERSION:2.0
PRODID:-//eventon.com NONSGML v1.0//EN
CALSCALE:GREGORIAN
METHOD:PUBLISH
BEGIN:VEVENT
UID:69e4ded091142
DTSTAMP:20260419T135528Z
DTSTART:20221030T190000Z
DTEND:20221030T235000Z
LOCATION:University of Oregon\,  Bell Concert Hall 1395 E 13th Ave\,  Eugene\,  OR 97403
SUMMARY:Eugene (USA)
DESCRIPTION:G. Mahler Klavierquartettsatz a-Moll J. Brahms Klavierquartett 
 c-Moll op. 60 G. Fauré Klavierquartett g-Moll op. 45\nhttps://faurequartet
 t.de/events/eugene-or-usa/
URL:https://faurequartett.de/events/eugene-or-usa/
END:VEVENT
END:VCALENDAR