BEGIN:VCALENDAR
VERSION:2.0
PRODID:-//eventon.com NONSGML v1.0//EN
CALSCALE:GREGORIAN
METHOD:PUBLISH
BEGIN:VEVENT
UID:69e6f575a73dd
DTSTAMP:20260421T035637Z
DTSTART:20231014T023000Z
DTEND:20231014T065000Z
LOCATION:Central United Methodist Church
SUMMARY:Phoenix (Arizona\,  USA)
DESCRIPTION:G. Fauré 3 Lieder: les berceaux\,  notre amour\,  clair de lun
 e (Bearb. f. Klavierquartett D. Zöllner) G. Fauré Klavierquartett g-Moll 
 op. 45 J. Brahms Klavierquartett g-Moll op. 25\nhttps://faurequartett.de/ev
 ents/phoenix-arizona-usa/
URL:https://faurequartett.de/events/phoenix-arizona-usa/
END:VEVENT
END:VCALENDAR