BEGIN:VCALENDAR
VERSION:2.0
PRODID:-//eventon.com NONSGML v1.0//EN
CALSCALE:GREGORIAN
METHOD:PUBLISH
BEGIN:VEVENT
UID:69ed841bbe927
DTSTAMP:20260426T031851Z
DTSTART:20240113T180000Z
DTEND:20240113T225000Z
LOCATION:
SUMMARY:Saarbrücken
DESCRIPTION:2 Popsongs: Charlie freak (Steely Dan)\,  Here comes the flood 
 (Peter Gabriel) J. Brahms Klavierquartett c-Moll op. 60 M. Mussorgsky Bilde
 r einer Ausstellung (Bearb. f. Klavierquartett G. Gruzman / D. Mommertz)\nh
 ttps://faurequartett.de/events/saarbruecken/
URL:https://faurequartett.de/events/saarbruecken/
END:VEVENT
END:VCALENDAR