BEGIN:VCALENDAR
VERSION:2.0
PRODID:-//eventon.com NONSGML v1.0//EN
CALSCALE:GREGORIAN
METHOD:PUBLISH
BEGIN:VEVENT
UID:69e747bb06217
DTSTAMP:20260421T094739Z
DTSTART:20250406T150000Z
DTEND:20250406T215000Z
LOCATION:Rittergut Störmede
SUMMARY:Geseke
DESCRIPTION:\nhttps://faurequartett.de/events/m-mussorgsky/
URL:https://faurequartett.de/events/m-mussorgsky/
END:VEVENT
END:VCALENDAR